{"text_format":"1","workbook":"xlsx","n_sheets":7,"sheets":["Hinweise","Eingabe","Standblatt 1. M.","Standblatt 2. M.","Standblatt 3. M.","Standblatt 4. M.","Standblatt 5. M."],"not_rendered":{"charts":0,"images":4,"macros":1,"external_links":0,"defined_names":14,"comments":0,"pivot_tables":0},"unopened":[],"bounds":{"document_bytes":16777216,"sheet_cells":100000,"rows_first":2000,"rows_last":500,"rows_between":2000,"halvings":0,"cell_chars":16384,"cell_head_chars":4096},"cells_cut":0,"cells_raw":0,"read":"whole","date_system":"1900"}

{"sheet":"Hinweise","index":0,"n_rows":39,"n_cols":5,"rows_kept":39,"cut":false,"hidden":false,"merged":[[0,1,0,4],[1,1,1,2],[3,1,3,2],[2,1,2,2],[7,1,8,1],[1,3,1,4],[2,3,2,4],[3,3,3,4],[7,3,8,3],[5,2,6,2],[4,1,6,1],[5,4,6,4],[4,3,6,3],[20,1,20,2],[20,3,20,4],[21,2,22,2],[21,4,22,4],[10,1,11,2],[10,3,11,4],[12,1,12,2],[12,3,12,4],[38,1,38,2],[38,3,38,4],[32,1,37,1],[32,3,37,3],[25,1,26,1],[25,3,26,3],[30,1,31,1],[30,3,31,3]]}
[null,"2024 Schweizer Mannschaftsmeisterschaft Gewehr 50m Elite (SMM G-50)\nChampionnat suisse d’équipes carabine 50m Elite (CSE C-50)\n"]
[null,"SMM-G50 Eingabeblatt – Mannschafts-Standblatt zur elektronischen Eingabe",null,"CSE-C50 Feuille de saisie – Feuille de stand d’équipe pour la saisie électronique"]
[null,"ELITE",null,"ELITE"]
[null,"SCHRITT 1 EXCELL-LISTE SPEICHERN",null,"ÉTAPE 1 ENREGISTRER LA LISTE EXCEL"]
[null,"1.","Exceldatei aus Mail lokal speichern","1.","Enregistrer le fichier Excel localement à partir du programme de messagerie"]
[null,null,"Der Exceldatei sind die Rechte zur Ausführung zu erteilen.\nDies kann über das «Trust Center» oder der «Eigenschaft der Datei» erfolgen.",null,"Le fichier Excel doit disposer de droits d'exécution.\nCela peut être fait via le « Trust Center » ou les « Propriétés du fichier »."]
[]
[null,"2.","Die Sicherheitsstufe der Makros muss auf mittel gestellt werden.","2.","Le niveau de sécurité des macros doit être réglé sur moyen."]
[null,null,"Extras > Makros > Sicherheit- > Sicherheitsstufe mittel",null,"Outils > Macros > Sécurité- > Niveau de sécurité moyen"]
[null,"3.","Eingabeblatt: gelbe Markierungen Punkt für Punkt bearbeiten.","3.","Feuille de saisie: traiter les marques jaunes point par point."]
[null,"Resultaterfassungen und Resultatmeldungen nur noch über diese Excelldatei auslösen.",null,"Déclencher les saisies de résultats et les annonces de résultats uniquement via ce fichier Excell."]
[]
[null,"Fixdaten = einmalige Eingabe",null,"Dates fixes = saisie unique"]
[null,8.1,"Name Vorname                    (alphabetisch)",8.1,"nom prénom                           (ordre alphabétique)"]
[null,8.1999999999999993,"Aufgelegt",8.1999999999999993,"appuis"]
[null,8.3000000000000007,"Jahrgang (immer 4-stellig)",8.3000000000000007,"année de naissance (toujours à 4 chiffres)"]
[null,8.4,"Lizenz (Entspricht der SSV-Adresnummer unter SSV-Personenangaben)",8.4,"numéro de licence (Numéro d'adresse FST sous Données personnelles-FST"]
[null,null,"Nach vollständiger Erfassung diese 4 Felder markieren, das Eingabefeld «Namen sortieren» anklicken ergibt alphabetische Auflistung.",null,"Après la saisie complète, marquer ces 4 champs, cliquer sur le champ de saisie \"Namen sortieren\" donne une liste alphabétique."]
[null,"1.1 - 1.5","Fixeinträge nicht abändern","1.1 - 1.5","Ne pas modifier les entrées fixes"]
[null,"2 - 5","2, 3, 4, 5 Pflichtfelder vollständig erfassen","2 - 5","2, 3, 4, 5 Saisir tous les champs obligatoires"]
[null,"Änderungsdaten von Runde zu Runde",null,"Dates de modification d'un tour à l'autre"]
[null,6,"Markierung Auswechselschützen X",6,"Marquage des tireurs remplaçants X"]
[null,"Ausw",null,"Rempl"]
[null,7,"Mannschaftszuteilung 1 = Mannschaft 1",7,"Répartition des équipes 1 = équipe 1"]
[null,"Nr"," 2 = Mannschaft 2 / 3 = Mannschaft 3","No"," 2 = équipe 2 / 3 = équipe 3"]
[null,"9.1\n9.2","Passe 1  / Passe 2 Resultat","9.1\n9.2","Passe 1  / Passe 2 résultat"]
[null,null,"In jeder Runde Überschreiben",null,"Écraser à chaque tour"]
[null,9.3000000000000007,"Wird automatisch mit Total aus Passe 1 und Passe 2 gefüllt",9.3000000000000007,"Est automatiquement rempli avec le total du Passe 1 et du Passe 2"]
[null,10,"Runde Auswahl 1 – 7 richtig erfassen",10,"Tour Sélection 1 - 7 Saisir correctement"]
[null,11,"Datum, Resultatmeldung, bei jeder Runde einsetzen (DD.MM.JJJJ)",11,"Date, message de résultat, encart pour chaque tour (DD.MM.JJJJ)"]
[null,12,"Scheiben von bis Schütze 1 = erste Nr ab Kartonscheibe > Enter",12,"Cible von bis Tireur 1 = premier No à partir du cible en carton > Enter"]
[null,null,"Elektr. Blatt (Ma. 1) Schütze 1 = erste Nr > Enter",null,"Feuille électrique (Ma. 1) tireur 1 = premier no > Enter"]
[null,"13\n14\n\n\n\n","Ø  Transfer Daten   > Transfer beendet OK","13\n14\n\n\n\n","Ø  Dates de transfer > Transfer terminé OK"]
[null,null,"Ø  Vorgehen Send Mail",null,"Ø  Send Mail"]
[null,null,"Ø  Fenster Micorosoft Outlook",null,"Ø  Fenêtre Micorosoft Outlook"]
[null,null,"wenn Balken GRÜN mit",null,"si la barre est VERTE, cliquer sur"]
[null,null,"ERTEILEN abschliessen",null,"Ø  DÉLIVRER pour terminer"]
[null,null,"urs.ledermann@swissshooting.ch",null,"urs.ledermann@swissshooting.ch"]
[null,"Die elektronische Resultatübermittlung entbindet gemäss AFB nicht vor Rücksendung der Resultatdruckstreifen.",null,"La transmission électronique des résultats ne dispense pas du renvoi des documents conformément aux DE."]

{"sheet":"Eingabe","index":1,"n_rows":114,"n_cols":22,"rows_kept":114,"cut":false,"hidden":false,"merged":[[12,17,12,21],[15,17,15,21],[21,17,21,21],[18,17,18,21],[2,12,2,15]]}
[null,null,null,null,null,"Eingabeblatt /Feuille de saisie/Foglio immissione dati"]
[null,null,"          2024 Schweizer MM Gewehr 50m Elite / Championnat Suisse d‘équipes carabine 50m élite"]
[6,7,8.1,8.1999999999999993,8.3000000000000007,8.4,9.1,9.1999999999999993,9.3000000000000007,10,11,null,12]
[null,null,"Vereinsliste/Liste société/ Lista società",null,null,null,null,null,null,null,null,null,"Scheibe/Cible",null,"oder","Elektr.Blatt",null,"Verein Nr","Verin Name","Mannschafts Nr.","Liga","Gruppe"]
["Ausw.\nRempl.","Nr.\nNo","Name Vorname\nnom prénom","Aufg.\nappuis","Jahrgang\nannée","Lizenz\nlicence","Passe 1","Passe 2","Resultat\n résultat","Runde\nTour","Datum\ndate",null,"von","bis",null,"Feuille électr.",null,"Société No:","Societé Nom","No Equipe","ligue","groupe"]
[null,null,null,null,null,null,null,null,{"$f":"G6+H6","v":0},null,null,null,null,{"$f":"IF(M6<>\"\",M6+9,\"\")","v":""},"Ma.  1",null,"1.1"]
[null,null,null,null,null,null,null,null,{"$f":"G7+H7","v":0},null,null,null,{"$f":"IF(M6<>\"\",M6+10,\"\")","v":""},{"$f":"IF(M7<>\"\",M7+9,\"\")","v":""},null,{"$f":"IF(P6<>\"\",P6+1,\"\")","v":""},"1.2"]
[null,null,null,null,null,null,null,null,{"$f":"G8+H8","v":0},null,null,null,{"$f":"IF(M7<>\"\",M7+10,\"\")","v":""},{"$f":"IF(M8<>\"\",M8+9,\"\")","v":""},null,{"$f":"IF(P7<>\"\",P7+1,\"\")","v":""},"1.3"]
[null,null,null,null,null,null,null,null,{"$f":"G9+H9","v":0},null,null,null,"","",null,"","1.4"]
[null,null,null,null,null,null,null,null,{"$f":"G10+H10","v":0},null,null,null,"","",null,"","1.5"]
[null,null,null,null,null,null,null,null,{"$f":"G11+H11","v":0},null,null,null,"","",null,""]
[null,null,null,null,null,null,null,null,{"$f":"G12+H12","v":0},null,null,null,"","",null,"",null,"Verantwortlicher Funktionär: / Fuctionaire responsable:"]
[null,null,null,null,null,null,null,null,{"$f":"G13+H13","v":0},null,null,null,"","",null,"","2"]
[null,null,null,null,null,null,null,null,{"$f":"G14+H14","v":0},null,null,null,null,{"$f":"IF(M14<>\"\",M14+9,\"\")","v":""},"Ma. 2"]
[null,null,null,null,null,null,null,null,{"$f":"G15+H15","v":0},null,null,null,{"$f":"IF(M14<>\"\",M14+10,\"\")","v":""},{"$f":"IF(M15<>\"\",M15+9,\"\")","v":""},null,"",null,"Strasse, PLZ, Ortschaft: / rue, NP, localité:"]
[null,null,null,null,null,null,null,null,{"$f":"G16+H16","v":0},null,null,null,{"$f":"IF(M15<>\"\",M15+10,\"\")","v":""},{"$f":"IF(M16<>\"\",M16+9,\"\")","v":""},null,"","3"]
[null,null,null,null,null,null,null,null,{"$f":"G17+H17","v":0},null,null,null,"","",null,""]
[null,null,null,null,null,null,null,null,{"$f":"G18+H18","v":0},null,null,null,"","",null,"",null,"eMail Adresse: / adresse e-mail:"]
[null,null,null,null,null,null,null,null,{"$f":"G19+H19","v":0},null,null,null,"","",null,"","4"]
[null,null,null,null,null,null,null,null,{"$f":"G20+H20","v":0},null,null,null,"","",null,""]
[null,null,null,null,null,null,null,null,{"$f":"G21+H21","v":0},null,null,null,"","",null,"",null,"Telefonnummer/Numéro de téléphone:"]
[null,null,null,null,null,null,null,null,{"$f":"G22+H22","v":0},null,null,null,null,{"$f":"IF(M22<>\"\",M22+9,\"\")","v":""},"Ma. 3",null,"5"]
[null,null,null,null,null,null,null,null,{"$f":"G23+H23","v":0},null,null,null,{"$f":"IF(M22<>\"\",M22+10,\"\")","v":""},{"$f":"IF(M23<>\"\",M23+9,\"\")","v":""},null,{"$f":"IF(P22<>\"\",P22+1,\"\")","v":""}]
[null,null,null,null,null,null,null,null,{"$f":"G24+H24","v":0},null,null,null,{"$f":"IF(M23<>\"\",M23+10,\"\")","v":""},{"$f":"IF(M24<>\"\",M24+9,\"\")","v":""},null,"",6,"Auswechsel / Remplaçant"]
[null,null,null,null,null,null,null,null,{"$f":"G25+H25","v":0},null,null,null,"","",null,""]
[null,null,null,null,null,null,null,null,{"$f":"G26+H26","v":0},null,null,null,"","",null,"",7,"Schützen mit Nr. 1 = 1. Mannschaft / Tireurs avec No 1 = 1. Équipe"]
[null,null,null,null,null,null,null,null,{"$f":"G27+H27","v":0},null,null,null,"","",null,"",null,"Schützen mit Nr. 2 = 2. Mannschaft usw. / Tireurs avec No 2 = 2. Équipe etc."]
[null,null,null,null,null,null,null,null,{"$f":"G28+H28","v":0},null,null,null,"","",null,""]
[null,null,null,null,null,null,null,null,{"$f":"G29+H29","v":0},null,null,null,"","",null,"",8,"Vereinliste: Name Vorname, Aufgelegt, Jg., Lizenznr."]
[null,null,null,null,null,null,null,null,{"$f":"G30+H30","v":0},null,null,null,null,{"$f":"IF(M30<>\"\",M30+9,\"\")","v":""},"Ma. 4",null,null,"Liste société: nom prénom, sur appui, année, No licence"]
[null,null,null,null,null,null,null,null,{"$f":"G31+H31","v":0},null,null,null,{"$f":"IF(M30<>\"\",M30+10,\"\")","v":""},{"$f":"IF(M31<>\"\",M31+9,\"\")","v":""},null,{"$f":"IF(P30<>\"\",P30+1,\"\")","v":""}]
[null,null,null,null,null,null,null,null,{"$f":"G32+H32","v":0},null,null,null,{"$f":"IF(M31<>\"\",M31+10,\"\")","v":""},{"$f":"IF(M32<>\"\",M32+9,\"\")","v":""},null,"",9,"Passe 1, Passe 2, Resultat / Passe 1, Passe 2, résultat"]
[null,null,null,null,null,null,null,null,{"$f":"G33+H33","v":0},null,null,null,"","",null,""]
[null,null,null,null,null,null,null,null,{"$f":"G34+H34","v":0},null,null,null,"","",null,"",10,"Runde / Tour"]
[null,null,null,null,null,null,null,null,{"$f":"G35+H35","v":0},null,null,null,"","",null,""]
[null,null,null,null,null,null,null,null,{"$f":"G36+H36","v":0},null,null,null,"","",null,{"$f":"IF(P35<>\"\",P35+1,\"\")","v":""},11,"Datum / date"]
[null,null,null,null,null,null,null,null,{"$f":"G37+H37","v":0},null,null,null,"","",null,{"$f":"IF(P36<>\"\",P36+1,\"\")","v":""}]
[null,null,null,null,null,null,null,null,{"$f":"G38+H38","v":0},null,null,null,null,{"$f":"IF(M38<>\"\",M38+9,\"\")","v":""},"Ma. 5",null,12,"Scheibennr. oder  elek. Standblattnr. / No  Cible ou No feuille electr."]
[null,null,null,null,null,null,null,null,{"$f":"G39+H39","v":0},null,null,null,{"$f":"IF(M38<>\"\",M38+10,\"\")","v":""},{"$f":"IF(M39<>\"\",M39+9,\"\")","v":""},null,{"$f":"IF(P38<>\"\",P38+1,\"\")","v":""}]
[null,null,null,null,null,null,null,null,{"$f":"G40+H40","v":0},null,null,null,{"$f":"IF(M39<>\"\",M39+10,\"\")","v":""},{"$f":"IF(M40<>\"\",M40+9,\"\")","v":""},null,"",13,"Transfer Daten"]
[null,null,null,null,null,null,null,null,{"$f":"G41+H41","v":0},null,null,null,"","",null,""]
[null,null,null,null,null,null,null,null,{"$f":"G42+H42","v":0},null,null,null,"","",null,"",14,"Senden an Wettkampfchef",null,"urs.ledermann@swissshooting.ch"]
[null,null,null,null,null,null,null,null,{"$f":"G43+H43","v":0},null,null,null,"","",null,""]
[null,null,null,null,null,null,null,null,{"$f":"G44+H44","v":0},null,null,null,"","",null,{"$f":"IF(P43<>\"\",P43+1,\"\")","v":""},15,"Drucken / Imprimer"]
[null,null,null,null,null,null,null,null,{"$f":"G45+H45","v":0},null,null,null,"","",null,{"$f":"IF(P44<>\"\",P44+1,\"\")","v":""}]
[null,null,null,null,null,null,null,null,{"$f":"G46+H46","v":0}]
[null,null,null,null,null,null,null,null,{"$f":"G47+H47","v":0},null,null,null,null,null,null,null,null,"Nur die gelben Zellen ausfüllen!"]
[null,null,null,null,null,null,null,null,{"$f":"G48+H48","v":0},null,null,null,null,null,null,null,null,"Ne remplir que les cellules jaunes! "]
[null,null,null,null,null,null,null,null,{"$f":"G49+H49","v":0},null,null,null,null,null,null,null,null,"Riempire soltanto le celle gialle!"]
[null,null,null,null,null,null,null,null,{"$f":"G50+H50","v":0}]
[null,null,null,null,null,null,null,null,{"$f":"G51+H51","v":0},null,null,null,null,null,null,null,null,"Hinweis:","Vereinsliste alphabetisch"]
[null,null,null,null,null,null,null,null,{"$f":"G52+H52","v":0},null,null,null,null,null,null,null,null,"Indication:","Liste société alphabétique"]
[null,null,null,null,null,null,null,null,{"$f":"G53+H53","v":0},null,null,null,null,null,null,null,null,"Indicazione:","Lista società alfabetico"]
[null,null,null,null,null,null,null,null,{"$f":"G54+H54","v":0}]
[null,null,null,null,null,null,null,null,{"$f":"G55+H55","v":0}]
[null,null,null,null,null,null,null,null,{"$f":"G56+H56","v":0}]
[null,null,null,null,null,null,null,null,{"$f":"G57+H57","v":0}]
[null,null,null,null,null,null,null,null,{"$f":"G58+H58","v":0}]
[null,null,null,null,null,null,null,null,{"$f":"G59+H59","v":0}]
[null,null,null,null,null,null,null,null,{"$f":"G60+H60","v":0}]
[null,null,null,null,null,null,null,null,{"$f":"G61+H61","v":0}]
[null,null,null,null,null,null,null,null,{"$f":"G62+H62","v":0}]
[null,null,null,null,null,null,null,null,{"$f":"G63+H63","v":0}]
[null,null,null,null,null,null,null,null,{"$f":"G64+H64","v":0}]
[null,null,null,null,null,null,null,null,{"$f":"G65+H65","v":0}]
[null,null,null,null,null,null,null,null,{"$f":"G66+H66","v":0}]
[null,null,null,null,null,null,null,null,{"$f":"G67+H67","v":0}]
[null,null,null,null,null,null,null,null,{"$f":"G68+H68","v":0}]
[null,null,null,null,null,null,null,null,{"$f":"G69+H69","v":0}]
[null,null,null,null,null,null,null,null,{"$f":"G70+H70","v":0}]
[null,null,null,null,null,null,null,null,{"$f":"G71+H71","v":0}]
[null,null,null,null,null,null,null,null,{"$f":"G72+H72","v":0}]
[null,null,null,null,null,null,null,null,{"$f":"G73+H73","v":0}]
[null,null,null,null,null,null,null,null,{"$f":"G74+H74","v":0}]
[null,null,null,null,null,null,null,null,{"$f":"G75+H75","v":0}]
[null,null,null,null,null,null,null,null,{"$f":"G76+H76","v":0}]
[null,null,null,null,null,null,null,null,{"$f":"G77+H77","v":0}]
[null,null,null,null,null,null,null,null,{"$f":"G78+H78","v":0}]
[null,null,null,null,null,null,null,null,{"$f":"G79+H79","v":0}]
[null,null,null,null,null,null,null,null,{"$f":"G80+H80","v":0}]
[null,null,null,null,null,null,null,null,{"$f":"G81+H81","v":0}]
[null,null,null,null,null,null,null,null,{"$f":"G82+H82","v":0}]
[null,null,null,null,null,null,null,null,{"$f":"G83+H83","v":0}]
[null,null,null,null,null,null,null,null,{"$f":"G84+H84","v":0}]
[null,null,null,null,null,null,null,null,{"$f":"G85+H85","v":0}]
[null,null,null,null,null,null,null,null,{"$f":"G86+H86","v":0}]
[null,null,null,null,null,null,null,null,{"$f":"G87+H87","v":0}]
[null,null,null,null,null,null,null,null,{"$f":"G88+H88","v":0}]
[null,null,null,null,null,null,null,null,{"$f":"G89+H89","v":0}]
[null,null,null,null,null,null,null,null,{"$f":"G90+H90","v":0}]
[null,null,null,null,null,null,null,null,{"$f":"G91+H91","v":0}]
[null,null,null,null,null,null,null,null,{"$f":"G92+H92","v":0}]
[null,null,null,null,null,null,null,null,{"$f":"G93+H93","v":0}]
[null,null,null,null,null,null,null,null,{"$f":"G94+H94","v":0}]
[null,null,null,null,null,null,null,null,{"$f":"G95+H95","v":0}]
[null,null,null,null,null,null,null,null,{"$f":"G96+H96","v":0}]
[null,null,null,null,null,null,null,null,{"$f":"G97+H97","v":0}]
[null,null,null,null,null,null,null,null,{"$f":"G98+H98","v":0}]
[null,null,null,null,null,null,null,null,{"$f":"G99+H99","v":0}]
[null,null,null,null,null,null,null,null,{"$f":"G100+H100","v":0}]
[null,null,null,null,null,null,null,null,{"$f":"G101+H101","v":0}]
[null,null,null,null,null,null,null,null,{"$f":"G102+H102","v":0}]
[null,null,null,null,null,null,null,null,{"$f":"G103+H103","v":0}]
[null,null,null,null,null,null,null,null,{"$f":"G104+H104","v":0}]
[null,null,null,null,null,null,null,null,{"$f":"G105+H105","v":0}]
[null,null,null,null,null,null,null,null,{"$f":"G106+H106","v":0}]
[null,null,null,null,null,null,null,null,{"$f":"G107+H107","v":0}]
[null,null,null,null,null,null,null,null,{"$f":"G108+H108","v":0}]
[null,null,null,null,null,null,null,null,{"$f":"G109+H109","v":0}]
[null,null,null,null,null,null,null,null,{"$f":"G110+H110","v":0}]
[null,null,null,null,null,null,null,null,{"$f":"G111+H111","v":0}]
[null,null,null,null,null,null,null,null,{"$f":"G112+H112","v":0}]
[null,null,null,null,null,null,null,null,{"$f":"G113+H113","v":0}]
[null,null,null,null,null,null,null,null,{"$f":"G114+H114","v":0}]

{"sheet":"Standblatt 1. M.","index":2,"n_rows":93,"n_cols":12,"rows_kept":93,"cut":false,"hidden":false,"merged":[[81,8,84,8],[81,9,84,9],[85,8,88,8],[85,9,88,9],[9,8,11,8],[9,9,11,9],[58,8,60,8],[58,9,60,9],[61,8,64,8],[61,9,64,9],[65,8,68,8],[65,9,68,9],[69,8,72,8],[69,9,72,9],[20,8,23,8],[20,9,23,9],[24,8,27,8],[24,9,27,9],[28,8,31,8],[28,9,31,9],[73,9,76,9],[77,9,80,9],[75,7,76,7],[36,3,37,5],[36,7,37,7],[73,3,74,5],[77,3,78,5],[57,3,58,5],[61,3,62,5],[65,3,66,5],[73,8,76,8],[77,8,80,8],[81,0,84,0],[81,1,84,1],[85,0,88,0],[85,1,88,1],[57,7,58,7],[61,7,62,7],[65,7,66,7],[69,7,70,7],[73,7,74,7],[77,7,78,7],[81,7,82,7],[85,7,86,7],[67,3,68,3],[67,5,68,5],[67,7,68,7],[71,5,72,5],[71,7,72,7],[63,7,64,7],[59,3,60,3],[59,5,60,5],[59,7,60,7],[63,3,64,3],[63,5,64,5],[69,0,72,0],[89,11,92,11],[32,10,35,10],[32,11,35,11],[73,10,76,10],[73,11,76,11],[77,10,80,10],[77,11,80,11],[81,10,84,10],[81,11,84,11],[85,10,88,10],[85,11,88,11],[65,10,68,10],[69,10,72,10],[52,4,53,10],[38,5,39,5],[38,7,39,7],[54,4,55,7],[54,10,55,10],[75,5,76,5],[69,3,70,5],[34,5,35,5],[34,7,35,7],[81,3,82,5],[85,3,86,5],[69,1,72,1],[73,0,76,0],[73,1,76,1],[77,0,80,0],[28,0,31,0],[28,1,31,1],[32,1,35,1],[36,0,39,0],[36,1,39,1],[57,0,60,0],[57,1,60,1],[61,0,64,0],[61,1,64,1],[77,1,80,1],[32,0,35,0],[20,0,23,0],[20,1,23,1],[24,0,27,0],[24,1,27,1],[34,3,35,3],[89,0,92,3],[40,0,43,3],[47,0,47,11],[89,10,92,10],[87,3,88,3],[87,5,88,5],[87,7,88,7],[71,3,72,3],[65,11,68,11],[69,11,72,11],[83,3,84,3],[83,5,84,5],[83,7,84,7],[79,7,80,7],[79,3,80,3],[79,5,80,5],[75,3,76,3],[65,0,68,0],[65,1,68,1],[54,11,55,11],[36,11,39,11],[40,11,43,11],[58,11,60,11],[61,11,64,11],[40,10,43,10],[50,3,51,6],[38,3,39,3],[36,10,39,10],[58,10,60,10],[61,10,64,10],[36,8,39,8],[36,9,39,9],[8,0,11,0],[12,0,15,0],[16,0,19,0],[10,7,11,7],[10,5,11,5],[10,3,11,3],[14,5,15,5],[8,1,11,1],[12,1,15,1],[5,11,6,11],[1,3,2,6],[5,4,6,7],[5,10,6,10],[16,10,19,10],[16,11,19,11],[20,10,23,10],[20,11,23,11],[22,3,23,3],[22,5,23,5],[22,7,23,7],[16,3,17,5],[20,3,21,5],[8,7,9,7],[12,7,13,7],[16,7,17,7],[20,7,21,7],[14,7,15,7],[18,7,19,7],[12,8,15,8],[12,9,15,9],[16,8,19,8],[16,9,19,9],[3,4,4,10],[32,3,33,5],[32,7,33,7],[16,1,19,1],[24,10,27,10],[24,11,27,11],[28,10,31,10],[28,11,31,11],[32,8,35,8],[32,9,35,9],[26,5,27,5],[24,3,25,5],[28,3,29,5],[24,7,25,7],[28,7,29,7],[18,3,19,3],[18,5,19,5],[9,11,11,11],[12,10,15,10],[12,11,15,11],[14,3,15,3],[26,3,27,3],[30,3,31,3],[30,7,31,7],[12,3,13,5],[8,3,9,5],[30,5,31,5],[26,7,27,7],[9,10,11,10]]}
[null,{"$f":"Eingabe!C2","v":"          2024 Schweizer MM Gewehr 50m Elite / Championnat Suisse d‘équipes carabine 50m élite"}]
[null,"Verein:",null,{"$f":"Eingabe!R6 & \" \" & Eingabe!S6","v":" "},null,null,null,"Mannschaft / Equipe","Liga / ligue","Gruppe / groupe","Runde / Tour","Datum / date"]
[null,"Société:",null,null,null,null,null,{"$f":"Eingabe!T6","v":0},{"$f":"Eingabe!U6","v":0},{"$f":"Eingabe!V6","v":0},{"$f":"Eingabe!J6","v":0},{"$f":"Eingabe!K6","v":"00:00:00"}]
[null,"Verantwortlicher Funktionär:",null,null,{"$f":"Eingabe!R13","v":0}]
[null,"Fonctionnaire responsable:"]
[null,"Strasse, PLZ, Ortschaft:",null,null,{"$f":"Eingabe!R16","v":0},null,null,null,null,null,"Tel.",{"$f":"Eingabe!R22","v":0}]
[null,"rue NP, localité:"]
[]
[null,null,"Name:",null,null,null,"Aufegelegt:",null,"Passe 1","Passe 2","Resultat / Résultat","Kontrolle / contrôle"]
[null,null,"Nom:",null,null,null,"appuis:"]
[null,null,"Jahrgang:",null,"Lizenz-Nr",null,"Karton-Nr",""]
[null,null,"Année:",null,"No Licence",null,"No Cartons"]
[null,null,"Name:",null,null,null,"Aufegelegt:"]
[null,null,"Nom:",null,null,null,"appuis:"]
[null,null,"Jahrgang:",null,"Lizenz-Nr",null,"Karton-Nr",""]
[null,null,"Année:",null,"No Licence",null,"No Cartons"]
[null,null,"Name:",null,null,null,"Aufegelegt:"]
[null,null,"Nom:",null,null,null,"appuis:"]
[null,null,"Jahrgang:",null,"Lizenz-Nr",null,"Karton-Nr",""]
[null,null,"Année:",null,"No Licence",null,"No Cartons"]
[null,null,"Name:",null,null,null,"Aufegelegt:"]
[null,null,"Nom:",null,null,null,"appuis:"]
[null,null,"Jahrgang:",null,"Lizenz-Nr",null,"Karton-Nr",""]
[null,null,"Année:",null,"No Licence",null,"No Cartons"]
[null,null,"Name:",null,null,null,"Aufegelegt:"]
[null,null,"Nom:",null,null,null,"appuis:"]
[null,null,"Jahrgang:",null,"Lizenz-Nr",null,"Karton-Nr",""]
[null,null,"Année:",null,"No Licence",null,"No Cartons"]
[null,null,"Name:",null,null,null,"Aufegelegt:"]
[null,null,"Nom:",null,null,null,"appuis:"]
[null,null,"Jahrgang:",null,"Lizenz-Nr",null,"Karton-Nr",""]
[null,null,"Année:",null,"No Licence",null,"No Cartons"]
[null,null,"Name:",null,null,null,"Aufegelegt:"]
[null,null,"Nom:",null,null,null,"appuis:"]
[null,null,"Jahrgang:",null,"Lizenz-Nr",null,"Karton-Nr",""]
[null,null,"Année:",null,"No Licence",null,"No Cartons"]
[null,null,"Name:",null,null,null,"Aufegelegt:"]
[null,null,"Nom:",null,null,null,"appuis:"]
[null,null,"Jahrgang:",null,"Lizenz-Nr",null,"Karton-Nr",""]
[null,null,"Année:",null,"No Licence",null,"No Cartons"]
["Datum Unterschrift / Date Signature",null,null,null,"Verteiler: Original und Doppel an SSV",null,null,null,null,null,{"$f":"SUM(K10:K40)","v":0}]
[null,null,null,null,"(Kopie wird nach Kontrolle dem Verein zurückgesandt)."]
[null,null,null,null,"Distribution: Original et copie pour la FST"]
[null,null,null,null,"(la copie sera retournée à la société après contrôle)."]
[]
["X",null,"X in Spalte A = Auswechselschütze! / Tireurs remplaçant! / Tiratori diricambio!"]
[]
["Das Mannschaftsstandblatt nicht schneiden"]
[]
[null,{"$f":"B1","v":"          2024 Schweizer MM Gewehr 50m Elite / Championnat Suisse d‘équipes carabine 50m élite"}]
[null,"Verein:",null,{"$f":"D2","v":" "},null,null,null,"Mannschaft / Equipe","Liga / ligue","Gruppe / groupe","Runde / Tour","Datum / date"]
[null,"Société:",null,null,null,null,null,{"$f":"H3","v":0},{"$f":"I3","v":0},{"$f":"J3","v":0},{"$f":"K3","v":0},{"$f":"L3","v":"00:00:00"}]
[null,"Verantwortlicher Funktionär:",null,null,{"$f":"E4","v":0}]
[null,"Fonctionnaire responsable:"]
[null,{"$f":"B6","v":"Strasse, PLZ, Ortschaft:"},null,null,{"$f":"E6","v":0},null,null,null,null,null,{"$f":"K6","v":"Tel."},{"$f":"L6","v":0}]
[null,{"$f":"B7","v":"rue NP, localité:"}]
[]
[{"$f":"A9","v":0},{"$f":"B9","v":0},"Name:",{"$f":"D9","v":0},"Arnold Beat","Arnold Beat","Aufegelegt:",{"$f":"H9","v":0},"Passe 1","Passe 2","Resultat / Résultat","Kontrolle / contrôle"]
[null,null,"Nom:","Arnold Beat","Arnold Beat","Arnold Beat","appuis:",null,{"$f":"I10","v":0},{"$f":"J10","v":0},{"$f":"K10","v":0}]
[null,null,"Jahrgang:",{"$f":"D11","v":0},"Lizenz-Nr.",{"$f":"F11","v":0},"Kartons-Nr.",{"$f":"H11","v":""}]
[null,null,"Année:",null,"No Licence",null,"No Cartons"]
[{"$f":"A13","v":0},{"$f":"B13","v":0},"Name:",{"$f":"D13","v":0},null,null,"Aufegelegt:",{"$f":"H13","v":0},{"$f":"I13","v":0},{"$f":"J13","v":0},{"$f":"K13","v":0}]
[null,null,"Nom:",null,null,null,"appuis:"]
[null,null,"Jahrgang:",{"$f":"D15","v":0},"Lizenz-Nr.",{"$f":"F15","v":0},"Kartons-Nr.",{"$f":"H15","v":""}]
[null,null,"Année:",null,"No Licence",null,"No Cartons"]
[{"$f":"A17","v":0},{"$f":"B17","v":0},"Name:",{"$f":"D17","v":0},null,null,"Aufegelegt:",{"$f":"H17","v":0},{"$f":"I17","v":0},{"$f":"J17","v":0},{"$f":"K17","v":0}]
[null,null,"Nom:",null,null,null,"appuis:"]
[null,null,"Jahrgang:",{"$f":"D19","v":0},"Lizenz-Nr.",{"$f":"F19","v":0},"Kartons-Nr.",{"$f":"H19","v":""}]
[null,null,"Année:",null,"No Licence",null,"No Cartons"]
[{"$f":"A21","v":0},{"$f":"B21","v":0},"Name:",{"$f":"D21","v":0},null,null,"Aufegelegt:",{"$f":"H21","v":0},{"$f":"I21","v":0},{"$f":"J21","v":0},{"$f":"K21","v":0}]
[null,null,"Nom:",null,null,null,"appuis:"]
[null,null,"Jahrgang:",{"$f":"D23","v":0},"Lizenz-Nr.",{"$f":"F23","v":0},"Kartons-Nr.",{"$f":"H23","v":""}]
[null,null,"Année:",null,"No Licence",null,"No Cartons"]
[{"$f":"A25","v":0},{"$f":"B25","v":0},"Name:",{"$f":"D25","v":0},null,null,"Aufegelegt:",{"$f":"H25","v":0},{"$f":"I25","v":0},{"$f":"J25","v":0},{"$f":"K25","v":0}]
[null,null,"Nom:",null,null,null,"appuis:"]
[null,null,"Jahrgang:",{"$f":"D27","v":0},"Lizenz-Nr.",{"$f":"F27","v":0},"Kartons-Nr.",{"$f":"H27","v":""}]
[null,null,"Année:",null,"No Licence",null,"No Cartons"]
[{"$f":"A29","v":0},{"$f":"B29","v":0},"Name:",{"$f":"D29","v":0},null,null,"Aufegelegt:",{"$f":"H29","v":0},{"$f":"I29","v":0},{"$f":"J29","v":0},{"$f":"K29","v":0}]
[null,null,"Nom:",null,null,null,"appuis:"]
[null,null,"Jahrgang:",{"$f":"D31","v":0},"Lizenz-Nr.",{"$f":"F31","v":0},"Kartons-Nr.",{"$f":"H31","v":""}]
[null,null,"Année:",null,"No Licence",null,"No Cartons"]
[{"$f":"A33","v":0},{"$f":"B33","v":0},"Name:",{"$f":"D33","v":0},null,null,"Aufegelegt:",{"$f":"H33","v":0},{"$f":"I33","v":0},{"$f":"J33","v":0},{"$f":"K33","v":0}]
[null,null,"Nom:",null,null,null,"appuis:"]
[null,null,"Jahrgang:",{"$f":"D35","v":0},"Lizenz-Nr.",{"$f":"F35","v":0},"Kartons-Nr.",{"$f":"H35","v":""}]
[null,null,"Année:",null,"No Licence",null,"No Cartons"]
[{"$f":"A37","v":0},{"$f":"B37","v":0},"Name:",{"$f":"D37","v":0},null,null,"Aufegelegt:",{"$f":"H37","v":0},{"$f":"I37","v":0},{"$f":"J37","v":0},{"$f":"K37","v":0}]
[null,null,"Nom:",null,null,null,"appuis:"]
[null,null,"Jahrgang:",{"$f":"D39","v":0},"Lizenz-Nr.",{"$f":"F39","v":0},"Kartons-Nr.",{"$f":"H39","v":""}]
[null,null,"Année:",null,"No Licence",null,"No Cartons"]
["Datum Unterschrift / Date Signature",null,null,null,"Verteiler: Original und Doppel an SSV",null,null,null,null,null,{"$f":"SUM(K59:K89)","v":0}]
[null,null,null,null,"(Kopie wird nach Kontrolle dem Verein zurückgesandt)."]
[null,null,null,null,"Distribution: Original et copie pour la FST"]
[null,null,null,null,"(la copie sera retournée à la société après contrôle)."]

{"sheet":"Standblatt 2. M.","index":3,"n_rows":93,"n_cols":12,"rows_kept":93,"cut":false,"hidden":false,"merged":[[24,8,27,8],[24,9,27,9],[28,8,31,8],[28,9,31,9],[32,8,35,8],[32,9,35,9],[1,3,2,6],[5,4,6,7],[14,3,15,3],[14,5,15,5],[14,7,15,7],[22,3,23,3],[22,5,23,5],[22,7,23,7],[16,8,19,8],[16,9,19,9],[26,5,27,5],[26,7,27,7],[18,3,19,3],[18,5,19,5],[3,4,4,10],[5,10,6,10],[5,11,6,11],[8,0,11,0],[8,1,11,1],[8,3,9,5],[8,7,9,7],[9,10,11,10],[9,8,11,8],[9,9,11,9],[9,11,11,11],[10,3,11,3],[10,5,11,5],[10,7,11,7],[12,0,15,0],[12,1,15,1],[12,3,13,5],[12,7,13,7],[12,10,15,10],[12,11,15,11],[12,8,15,8],[12,9,15,9],[24,0,27,0],[24,1,27,1],[24,3,25,5],[24,7,25,7],[16,10,19,10],[16,11,19,11],[18,7,19,7],[20,0,23,0],[20,1,23,1],[20,3,21,5],[20,7,21,7],[20,10,23,10],[20,11,23,11],[24,10,27,10],[24,11,27,11],[26,3,27,3],[16,0,19,0],[16,1,19,1],[16,3,17,5],[16,7,17,7],[28,11,31,11],[30,3,31,3],[30,5,31,5],[30,7,31,7],[32,0,35,0],[32,1,35,1],[32,3,33,5],[32,7,33,7],[32,10,35,10],[32,11,35,11],[28,0,31,0],[28,1,31,1],[28,3,29,5],[28,7,29,7],[28,10,31,10],[34,3,35,3],[34,5,35,5],[34,7,35,7],[20,8,23,8],[20,9,23,9],[47,0,47,11],[50,3,51,6],[52,4,53,10],[54,4,55,7],[54,10,55,10],[54,11,55,11],[36,10,39,10],[36,11,39,11],[38,3,39,3],[38,5,39,5],[38,7,39,7],[40,0,43,3],[40,10,43,10],[40,11,43,11],[36,0,39,0],[36,1,39,1],[36,3,37,5],[36,7,37,7],[36,8,39,8],[36,9,39,9],[57,0,60,0],[57,1,60,1],[57,3,58,5],[57,7,58,7],[58,10,60,10],[58,11,60,11],[59,3,60,3],[59,5,60,5],[59,7,60,7],[58,8,60,8],[58,9,60,9],[61,0,64,0],[61,1,64,1],[61,3,62,5],[61,7,62,7],[61,10,64,10],[61,11,64,11],[63,3,64,3],[63,5,64,5],[63,7,64,7],[61,8,64,8],[61,9,64,9],[65,0,68,0],[65,1,68,1],[65,3,66,5],[65,7,66,7],[65,10,68,10],[65,11,68,11],[67,3,68,3],[67,5,68,5],[67,7,68,7],[65,8,68,8],[65,9,68,9],[69,0,72,0],[69,1,72,1],[69,3,70,5],[69,7,70,7],[69,10,72,10],[69,11,72,11],[71,3,72,3],[71,5,72,5],[71,7,72,7],[69,8,72,8],[69,9,72,9],[73,0,76,0],[73,1,76,1],[73,3,74,5],[73,7,74,7],[73,10,76,10],[73,11,76,11],[75,3,76,3],[75,5,76,5],[75,7,76,7],[73,8,76,8],[73,9,76,9],[77,0,80,0],[77,1,80,1],[77,3,78,5],[77,7,78,7],[77,10,80,10],[77,11,80,11],[79,3,80,3],[79,5,80,5],[79,7,80,7],[77,8,80,8],[77,9,80,9],[81,0,84,0],[81,1,84,1],[81,3,82,5],[81,7,82,7],[81,10,84,10],[81,11,84,11],[83,3,84,3],[83,5,84,5],[83,7,84,7],[81,8,84,8],[81,9,84,9],[89,0,92,3],[89,10,92,10],[89,11,92,11],[85,0,88,0],[85,1,88,1],[85,3,86,5],[85,7,86,7],[85,10,88,10],[85,11,88,11],[87,3,88,3],[87,5,88,5],[87,7,88,7],[85,8,88,8],[85,9,88,9]]}
[null,{"$f":"Eingabe!C2","v":"          2024 Schweizer MM Gewehr 50m Elite / Championnat Suisse d‘équipes carabine 50m élite"}]
[null,"Verein:",null,{"$f":"Eingabe!R7 & \" \" & Eingabe!S7","v":" "},null,null,null,"Mannschaft / Equipe","Liga / ligue","Gruppe / groupe","Runde / Tour","Datum / date"]
[null,"Société:",null,null,null,null,null,{"$f":"Eingabe!T7","v":0},{"$f":"Eingabe!U7","v":0},{"$f":"Eingabe!V7","v":0},{"$f":"Eingabe!J14","v":0},{"$f":"Eingabe!K14","v":"00:00:00"}]
[null,"Verantwortlicher Funktionär:",null,null,{"$f":"Eingabe!R13","v":0}]
[null,"Fonctionnaire responsable:"]
[null,"Strasse, PLZ, Ortschaft:",null,null,{"$f":"Eingabe!R16","v":0},null,null,null,null,null,"Tel.",{"$f":"Eingabe!R22","v":0}]
[null,"rue NP, localité:"]
[]
[null,null,"Name:",null,null,null,"Aufegelegt:",null,"Passe 1","Passe 2","Resultat / Résultat","Kontrolle / contrôle"]
[null,null,"Nom:",null,null,null,"appuis:"]
[null,null,"Jahrgang:",null,"Lizenz-Nr",null,"Karton-Nr",""]
[null,null,"Année:",null,"No Licence",null,"No Cartons"]
[null,null,"Name:",null,null,null,"Aufegelegt:"]
[null,null,"Nom:",null,null,null,"appuis:"]
[null,null,"Jahrgang:",null,"Lizenz-Nr",null,"Karton-Nr",""]
[null,null,"Année:",null,"No Licence",null,"No Cartons"]
[null,null,"Name:",null,null,null,"Aufegelegt:"]
[null,null,"Nom:",null,null,null,"appuis:"]
[null,null,"Jahrgang:",null,"Lizenz-Nr",null,"Karton-Nr",""]
[null,null,"Année:",null,"No Licence",null,"No Cartons"]
[null,null,"Name:",null,null,null,"Aufegelegt:"]
[null,null,"Nom:",null,null,null,"appuis:"]
[null,null,"Jahrgang:",null,"Lizenz-Nr",null,"Karton-Nr",""]
[null,null,"Année:",null,"No Licence",null,"No Cartons"]
[null,null,"Name:",null,null,null,"Aufegelegt:"]
[null,null,"Nom:",null,null,null,"appuis:"]
[null,null,"Jahrgang:",null,"Lizenz-Nr",null,"Karton-Nr",""]
[null,null,"Année:",null,"No Licence",null,"No Cartons"]
[null,null,"Name:",null,null,null,"Aufegelegt:"]
[null,null,"Nom:",null,null,null,"appuis:"]
[null,null,"Jahrgang:",null,"Lizenz-Nr",null,"Karton-Nr",""]
[null,null,"Année:",null,"No Licence",null,"No Cartons"]
[null,null,"Name:",null,null,null,"Aufegelegt:"]
[null,null,"Nom:",null,null,null,"appuis:"]
[null,null,"Jahrgang:",null,"Lizenz-Nr",null,"Karton-Nr",""]
[null,null,"Année:",null,"No Licence",null,"No Cartons"]
[null,null,"Name:",null,null,null,"Aufegelegt:"]
[null,null,"Nom:",null,null,null,"appuis:"]
[null,null,"Jahrgang:",null,"Lizenz-Nr",null,"Karton-Nr",""]
[null,null,"Année:",null,"No Licence",null,"No Cartons"]
["Datum Unterschrift / Date Signature",null,null,null,"Verteiler: Original und Doppel an SSV",null,null,null,null,null,{"$f":"SUM(K10:K40)","v":0}]
[null,null,null,null,"(Kopie wird nach Kontrolle dem Verein zurückgesandt)."]
[null,null,null,null,"Distribution: Original et copie pour la FST"]
[null,null,null,null,"(la copie sera retournée à la société après contrôle)."]
[]
["X",null,"X in Spalte A = Auswechselschütze! / Tireurs remplaçant! / Tiratori diricambio!"]
[]
["Das Mannschaftsstandblatt nicht schneiden"]
[]
[null,{"$f":"B1","v":"          2024 Schweizer MM Gewehr 50m Elite / Championnat Suisse d‘équipes carabine 50m élite"}]
[null,"Verein:",null,{"$f":"D2","v":" "},null,null,null,"Mannschaft / Equipe","Liga / ligue","Gruppe / groupe","Runde / Tour","Datum / date"]
[null,"Société:",null,null,null,null,null,{"$f":"H3","v":0},{"$f":"I3","v":0},{"$f":"J3","v":0},{"$f":"K3","v":0},{"$f":"L3","v":"00:00:00"}]
[null,"Verantwortlicher Funktionär:",null,null,{"$f":"E4","v":0}]
[null,"Fonctionnaire responsable:"]
[null,{"$f":"B6","v":"Strasse, PLZ, Ortschaft:"},null,null,{"$f":"E6","v":0},null,null,null,null,null,{"$f":"K6","v":"Tel."},{"$f":"L6","v":0}]
[null,{"$f":"B7","v":"rue NP, localité:"}]
[]
[{"$f":"A9","v":0},{"$f":"B9","v":0},"Name:",{"$f":"D9","v":0},"Arnold Beat","Arnold Beat","Aufegelegt:",{"$f":"H9","v":0},"Passe 1","Passe 2","Resultat / Résultat","Kontrolle / contrôle"]
[null,null,"Nom:","Arnold Beat","Arnold Beat","Arnold Beat","appuis:",null,{"$f":"I10","v":0},{"$f":"J10","v":0},{"$f":"K10","v":0}]
[null,null,"Jahrgang:",{"$f":"D11","v":0},"Lizenz-Nr.",{"$f":"F11","v":0},"Kartons-Nr.",{"$f":"H11","v":""}]
[null,null,"Année:",null,"No Licence",null,"No Cartons"]
[{"$f":"A13","v":0},{"$f":"B13","v":0},"Name:",{"$f":"D13","v":0},null,null,"Aufegelegt:",{"$f":"H13","v":0},{"$f":"I13","v":0},{"$f":"J13","v":0},{"$f":"K13","v":0}]
[null,null,"Nom:",null,null,null,"appuis:"]
[null,null,"Jahrgang:",{"$f":"D15","v":0},"Lizenz-Nr.",{"$f":"F15","v":0},"Kartons-Nr.",{"$f":"H15","v":""}]
[null,null,"Année:",null,"No Licence",null,"No Cartons"]
[{"$f":"A17","v":0},{"$f":"B17","v":0},"Name:",{"$f":"D17","v":0},null,null,"Aufegelegt:",{"$f":"H17","v":0},{"$f":"I17","v":0},{"$f":"J17","v":0},{"$f":"K17","v":0}]
[null,null,"Nom:",null,null,null,"appuis:"]
[null,null,"Jahrgang:",{"$f":"D19","v":0},"Lizenz-Nr.",{"$f":"F19","v":0},"Kartons-Nr.",{"$f":"H19","v":""}]
[null,null,"Année:",null,"No Licence",null,"No Cartons"]
[{"$f":"A21","v":0},{"$f":"B21","v":0},"Name:",{"$f":"D21","v":0},null,null,"Aufegelegt:",{"$f":"H21","v":0},{"$f":"I21","v":0},{"$f":"J21","v":0},{"$f":"K21","v":0}]
[null,null,"Nom:",null,null,null,"appuis:"]
[null,null,"Jahrgang:",{"$f":"D23","v":0},"Lizenz-Nr.",{"$f":"F23","v":0},"Kartons-Nr.",{"$f":"H23","v":""}]
[null,null,"Année:",null,"No Licence",null,"No Cartons"]
[{"$f":"A25","v":0},{"$f":"B25","v":0},"Name:",{"$f":"D25","v":0},null,null,"Aufegelegt:",{"$f":"H25","v":0},{"$f":"I25","v":0},{"$f":"J25","v":0},{"$f":"K25","v":0}]
[null,null,"Nom:",null,null,null,"appuis:"]
[null,null,"Jahrgang:",{"$f":"D27","v":0},"Lizenz-Nr.",{"$f":"F27","v":0},"Kartons-Nr.",{"$f":"H27","v":""}]
[null,null,"Année:",null,"No Licence",null,"No Cartons"]
[{"$f":"A29","v":0},{"$f":"B29","v":0},"Name:",{"$f":"D29","v":0},null,null,"Aufegelegt:",{"$f":"H29","v":0},{"$f":"I29","v":0},{"$f":"J29","v":0},{"$f":"K29","v":0}]
[null,null,"Nom:",null,null,null,"appuis:"]
[null,null,"Jahrgang:",{"$f":"D31","v":0},"Lizenz-Nr.",{"$f":"F31","v":0},"Kartons-Nr.",{"$f":"H31","v":""}]
[null,null,"Année:",null,"No Licence",null,"No Cartons"]
[{"$f":"A33","v":0},{"$f":"B33","v":0},"Name:",{"$f":"D33","v":0},null,null,"Aufegelegt:",{"$f":"H33","v":0},{"$f":"I33","v":0},{"$f":"J33","v":0},{"$f":"K33","v":0}]
[null,null,"Nom:",null,null,null,"appuis:"]
[null,null,"Jahrgang:",{"$f":"D35","v":0},"Lizenz-Nr.",{"$f":"F35","v":0},"Kartons-Nr.",{"$f":"H35","v":""}]
[null,null,"Année:",null,"No Licence",null,"No Cartons"]
[{"$f":"A37","v":0},{"$f":"B37","v":0},"Name:",{"$f":"D37","v":0},null,null,"Aufegelegt:",{"$f":"H37","v":0},{"$f":"I37","v":0},{"$f":"J37","v":0},{"$f":"K37","v":0}]
[null,null,"Nom:",null,null,null,"appuis:"]
[null,null,"Jahrgang:",{"$f":"D39","v":0},"Lizenz-Nr.",{"$f":"F39","v":0},"Kartons-Nr.",{"$f":"H39","v":""}]
[null,null,"Année:",null,"No Licence",null,"No Cartons"]
["Datum Unterschrift / Date Signature",null,null,null,"Verteiler: Original und Doppel an SSV",null,null,null,null,null,{"$f":"SUM(K59:K89)","v":0}]
[null,null,null,null,"(Kopie wird nach Kontrolle dem Verein zurückgesandt)."]
[null,null,null,null,"Distribution: Original et copie pour la FST"]
[null,null,null,null,"(la copie sera retournée à la société après contrôle)."]

{"sheet":"Standblatt 3. M.","index":4,"n_rows":93,"n_cols":12,"rows_kept":93,"cut":false,"hidden":false,"merged":[[20,9,23,9],[24,8,27,8],[24,9,27,9],[28,8,31,8],[28,9,31,9],[32,8,35,8],[32,9,35,9],[36,8,39,8],[36,9,39,9],[1,3,2,6],[5,4,6,7],[5,10,6,10],[5,11,6,11],[8,0,11,0],[8,1,11,1],[8,3,9,5],[8,7,9,7],[9,10,11,10],[9,8,11,8],[9,9,11,9],[3,4,4,10],[14,3,15,3],[14,5,15,5],[14,7,15,7],[16,0,19,0],[16,1,19,1],[16,3,17,5],[16,7,17,7],[9,11,11,11],[10,3,11,3],[10,5,11,5],[10,7,11,7],[12,0,15,0],[12,1,15,1],[12,3,13,5],[12,7,13,7],[12,10,15,10],[12,11,15,11],[12,8,15,8],[12,9,15,9],[16,8,19,8],[16,9,19,9],[22,3,23,3],[22,5,23,5],[22,7,23,7],[24,0,27,0],[24,1,27,1],[24,3,25,5],[24,7,25,7],[16,10,19,10],[16,11,19,11],[18,7,19,7],[20,0,23,0],[20,1,23,1],[20,3,21,5],[20,7,21,7],[20,10,23,10],[20,11,23,11],[24,10,27,10],[24,11,27,11],[26,3,27,3],[26,5,27,5],[26,7,27,7],[18,3,19,3],[18,5,19,5],[20,8,23,8],[28,11,31,11],[30,3,31,3],[30,5,31,5],[30,7,31,7],[32,0,35,0],[32,1,35,1],[32,3,33,5],[32,7,33,7],[32,10,35,10],[32,11,35,11],[28,0,31,0],[28,1,31,1],[28,3,29,5],[28,7,29,7],[28,10,31,10],[34,3,35,3],[34,5,35,5],[34,7,35,7],[47,0,47,11],[50,3,51,6],[52,4,53,10],[54,4,55,7],[54,10,55,10],[54,11,55,11],[36,10,39,10],[36,11,39,11],[38,3,39,3],[38,5,39,5],[38,7,39,7],[40,0,43,3],[40,10,43,10],[40,11,43,11],[36,0,39,0],[36,1,39,1],[36,3,37,5],[36,7,37,7],[57,0,60,0],[57,1,60,1],[57,3,58,5],[57,7,58,7],[58,10,60,10],[58,11,60,11],[59,3,60,3],[59,5,60,5],[59,7,60,7],[58,8,60,8],[58,9,60,9],[61,0,64,0],[61,1,64,1],[61,3,62,5],[61,7,62,7],[61,10,64,10],[61,11,64,11],[63,3,64,3],[63,5,64,5],[63,7,64,7],[61,8,64,8],[61,9,64,9],[65,0,68,0],[65,1,68,1],[65,3,66,5],[65,7,66,7],[65,10,68,10],[65,11,68,11],[67,3,68,3],[67,5,68,5],[67,7,68,7],[65,8,68,8],[65,9,68,9],[69,0,72,0],[69,1,72,1],[69,3,70,5],[69,7,70,7],[69,10,72,10],[69,11,72,11],[71,3,72,3],[71,5,72,5],[71,7,72,7],[69,8,72,8],[69,9,72,9],[73,0,76,0],[73,1,76,1],[73,3,74,5],[73,7,74,7],[73,10,76,10],[73,11,76,11],[75,3,76,3],[75,5,76,5],[75,7,76,7],[73,8,76,8],[73,9,76,9],[77,0,80,0],[77,1,80,1],[77,3,78,5],[77,7,78,7],[77,10,80,10],[77,11,80,11],[79,3,80,3],[79,5,80,5],[79,7,80,7],[77,8,80,8],[77,9,80,9],[81,0,84,0],[81,1,84,1],[81,3,82,5],[81,7,82,7],[81,10,84,10],[81,11,84,11],[83,3,84,3],[83,5,84,5],[83,7,84,7],[81,8,84,8],[81,9,84,9],[89,0,92,3],[89,10,92,10],[89,11,92,11],[85,0,88,0],[85,1,88,1],[85,3,86,5],[85,7,86,7],[85,10,88,10],[85,11,88,11],[87,3,88,3],[87,5,88,5],[87,7,88,7],[85,8,88,8],[85,9,88,9]]}
[null,{"$f":"Eingabe!C2","v":"          2024 Schweizer MM Gewehr 50m Elite / Championnat Suisse d‘équipes carabine 50m élite"}]
[null,"Verein:",null,{"$f":"Eingabe!R8 & \" \" & Eingabe!S8","v":" "},null,null,null,"Mannschaft / Equipe","Liga / ligue","Gruppe / groupe","Runde / Tour","Datum / date"]
[null,"Société:",null,null,null,null,null,{"$f":"Eingabe!T8","v":0},{"$f":"Eingabe!U8","v":0},{"$f":"Eingabe!V8","v":0},{"$f":"Eingabe!J22","v":0},{"$f":"Eingabe!K22","v":"00:00:00"}]
[null,"Verantwortlicher Funktionär:",null,null,{"$f":"Eingabe!R13","v":0}]
[null,"Fonctionnaire responsable:"]
[null,"Strasse, PLZ, Ortschaft:",null,null,{"$f":"Eingabe!R16","v":0},null,null,null,null,null,"Tel.",{"$f":"Eingabe!R22","v":0}]
[null,"rue NP, localité:"]
[]
[null,null,"Name:",null,null,null,"Aufegelegt:",null,"Passe 1","Passe 2","Resultat / Résultat","Kontrolle / contrôle"]
[null,null,"Nom:",null,null,null,"appuis:"]
[null,null,"Jahrgang:",null,"Lizenz-Nr",null,"Karton-Nr",""]
[null,null,"Année:",null,"No Licence",null,"No Cartons"]
[null,null,"Name:",null,null,null,"Aufegelegt:"]
[null,null,"Nom:",null,null,null,"appuis:"]
[null,null,"Jahrgang:",null,"Lizenz-Nr",null,"Karton-Nr",""]
[null,null,"Année:",null,"No Licence",null,"No Cartons"]
[null,null,"Name:",null,null,null,"Aufegelegt:"]
[null,null,"Nom:",null,null,null,"appuis:"]
[null,null,"Jahrgang:",null,"Lizenz-Nr",null,"Karton-Nr",""]
[null,null,"Année:",null,"No Licence",null,"No Cartons"]
[null,null,"Name:",null,null,null,"Aufegelegt:"]
[null,null,"Nom:",null,null,null,"appuis:"]
[null,null,"Jahrgang:",null,"Lizenz-Nr",null,"Karton-Nr",""]
[null,null,"Année:",null,"No Licence",null,"No Cartons"]
[null,null,"Name:",null,null,null,"Aufegelegt:"]
[null,null,"Nom:",null,null,null,"appuis:"]
[null,null,"Jahrgang:",null,"Lizenz-Nr",null,"Karton-Nr",""]
[null,null,"Année:",null,"No Licence",null,"No Cartons"]
[null,null,"Name:",null,null,null,"Aufegelegt:"]
[null,null,"Nom:",null,null,null,"appuis:"]
[null,null,"Jahrgang:",null,"Lizenz-Nr",null,"Karton-Nr",""]
[null,null,"Année:",null,"No Licence",null,"No Cartons"]
[null,null,"Name:",null,null,null,"Aufegelegt:"]
[null,null,"Nom:",null,null,null,"appuis:"]
[null,null,"Jahrgang:",null,"Lizenz-Nr",null,"Karton-Nr",""]
[null,null,"Année:",null,"No Licence",null,"No Cartons"]
[null,null,"Name:",null,null,null,"Aufegelegt:"]
[null,null,"Nom:",null,null,null,"appuis:"]
[null,null,"Jahrgang:",null,"Lizenz-Nr",null,"Karton-Nr",""]
[null,null,"Année:",null,"No Licence",null,"No Cartons"]
["Datum Unterschrift / Date Signature",null,null,null,"Verteiler: Original und Doppel an SSV",null,null,null,null,null,{"$f":"SUM(K10:K40)","v":0}]
[null,null,null,null,"(Kopie wird nach Kontrolle dem Verein zurückgesandt)."]
[null,null,null,null,"Distribution: Original et copie pour la FST"]
[null,null,null,null,"(la copie sera retournée à la société après contrôle)."]
[]
["X",null,"X in Spalte A = Auswechselschütze! / Tireurs remplaçant! / Tiratori diricambio!"]
[]
["Das Mannschaftsstandblatt nicht schneiden"]
[]
[null,{"$f":"B1","v":"          2024 Schweizer MM Gewehr 50m Elite / Championnat Suisse d‘équipes carabine 50m élite"}]
[null,"Verein:",null,{"$f":"D2","v":" "},null,null,null,"Mannschaft / Equipe","Liga / ligue","Gruppe / groupe","Runde / Tour","Datum / date"]
[null,"Société:",null,null,null,null,null,{"$f":"H3","v":0},{"$f":"I3","v":0},{"$f":"J3","v":0},{"$f":"K3","v":0},{"$f":"L3","v":"00:00:00"}]
[null,"Verantwortlicher Funktionär:",null,null,{"$f":"E4","v":0}]
[null,"Fonctionnaire responsable:"]
[null,{"$f":"B6","v":"Strasse, PLZ, Ortschaft:"},null,null,{"$f":"E6","v":0},null,null,null,null,null,{"$f":"K6","v":"Tel."},{"$f":"L6","v":0}]
[null,{"$f":"B7","v":"rue NP, localité:"}]
[]
[{"$f":"A9","v":0},{"$f":"B9","v":0},"Name:",{"$f":"D9","v":0},"Arnold Beat","Arnold Beat","Aufegelegt:",{"$f":"H9","v":0},"Passe 1","Passe 2","Resultat / Résultat","Kontrolle / contrôle"]
[null,null,"Nom:","Arnold Beat","Arnold Beat","Arnold Beat","appuis:",null,{"$f":"I10","v":0},{"$f":"J10","v":0},{"$f":"K10","v":0}]
[null,null,"Jahrgang:",{"$f":"D11","v":0},"Lizenz-Nr.",{"$f":"F11","v":0},"Kartons-Nr.",{"$f":"H11","v":""}]
[null,null,"Année:",null,"No Licence",null,"No Cartons"]
[{"$f":"A13","v":0},{"$f":"B13","v":0},"Name:",{"$f":"D13","v":0},null,null,"Aufegelegt:",{"$f":"H13","v":0},{"$f":"I13","v":0},{"$f":"J13","v":0},{"$f":"K13","v":0}]
[null,null,"Nom:",null,null,null,"appuis:"]
[null,null,"Jahrgang:",{"$f":"D15","v":0},"Lizenz-Nr.",{"$f":"F15","v":0},"Kartons-Nr.",{"$f":"H15","v":""}]
[null,null,"Année:",null,"No Licence",null,"No Cartons"]
[{"$f":"A17","v":0},{"$f":"B17","v":0},"Name:",{"$f":"D17","v":0},null,null,"Aufegelegt:",{"$f":"H17","v":0},{"$f":"I17","v":0},{"$f":"J17","v":0},{"$f":"K17","v":0}]
[null,null,"Nom:",null,null,null,"appuis:"]
[null,null,"Jahrgang:",{"$f":"D19","v":0},"Lizenz-Nr.",{"$f":"F19","v":0},"Kartons-Nr.",{"$f":"H19","v":""}]
[null,null,"Année:",null,"No Licence",null,"No Cartons"]
[{"$f":"A21","v":0},{"$f":"B21","v":0},"Name:",{"$f":"D21","v":0},null,null,"Aufegelegt:",{"$f":"H21","v":0},{"$f":"I21","v":0},{"$f":"J21","v":0},{"$f":"K21","v":0}]
[null,null,"Nom:",null,null,null,"appuis:"]
[null,null,"Jahrgang:",{"$f":"D23","v":0},"Lizenz-Nr.",{"$f":"F23","v":0},"Kartons-Nr.",{"$f":"H23","v":""}]
[null,null,"Année:",null,"No Licence",null,"No Cartons"]
[{"$f":"A25","v":0},{"$f":"B25","v":0},"Name:",{"$f":"D25","v":0},null,null,"Aufegelegt:",{"$f":"H25","v":0},{"$f":"I25","v":0},{"$f":"J25","v":0},{"$f":"K25","v":0}]
[null,null,"Nom:",null,null,null,"appuis:"]
[null,null,"Jahrgang:",{"$f":"D27","v":0},"Lizenz-Nr.",{"$f":"F27","v":0},"Kartons-Nr.",{"$f":"H27","v":""}]
[null,null,"Année:",null,"No Licence",null,"No Cartons"]
[{"$f":"A29","v":0},{"$f":"B29","v":0},"Name:",{"$f":"D29","v":0},null,null,"Aufegelegt:",{"$f":"H29","v":0},{"$f":"I29","v":0},{"$f":"J29","v":0},{"$f":"K29","v":0}]
[null,null,"Nom:",null,null,null,"appuis:"]
[null,null,"Jahrgang:",{"$f":"D31","v":0},"Lizenz-Nr.",{"$f":"F31","v":0},"Kartons-Nr.",{"$f":"H31","v":""}]
[null,null,"Année:",null,"No Licence",null,"No Cartons"]
[{"$f":"A33","v":0},{"$f":"B33","v":0},"Name:",{"$f":"D33","v":0},null,null,"Aufegelegt:",{"$f":"H33","v":0},{"$f":"I33","v":0},{"$f":"J33","v":0},{"$f":"K33","v":0}]
[null,null,"Nom:",null,null,null,"appuis:"]
[null,null,"Jahrgang:",{"$f":"D35","v":0},"Lizenz-Nr.",{"$f":"F35","v":0},"Kartons-Nr.",{"$f":"H35","v":""}]
[null,null,"Année:",null,"No Licence",null,"No Cartons"]
[{"$f":"A37","v":0},{"$f":"B37","v":0},"Name:",{"$f":"D37","v":0},null,null,"Aufegelegt:",{"$f":"H37","v":0},{"$f":"I37","v":0},{"$f":"J37","v":0},{"$f":"K37","v":0}]
[null,null,"Nom:",null,null,null,"appuis:"]
[null,null,"Jahrgang:",{"$f":"D39","v":0},"Lizenz-Nr.",{"$f":"F39","v":0},"Kartons-Nr.",{"$f":"H39","v":""}]
[null,null,"Année:",null,"No Licence",null,"No Cartons"]
["Datum Unterschrift / Date Signature",null,null,null,"Verteiler: Original und Doppel an SSV",null,null,null,null,null,{"$f":"SUM(K59:K89)","v":0}]
[null,null,null,null,"(Kopie wird nach Kontrolle dem Verein zurückgesandt)."]
[null,null,null,null,"Distribution: Original et copie pour la FST"]
[null,null,null,null,"(la copie sera retournée à la société après contrôle)."]

{"sheet":"Standblatt 4. M.","index":5,"n_rows":93,"n_cols":12,"rows_kept":93,"cut":false,"hidden":false,"merged":[[20,9,23,9],[24,8,27,8],[24,9,27,9],[28,8,31,8],[28,9,31,9],[32,8,35,8],[32,9,35,9],[36,8,39,8],[36,9,39,9],[1,3,2,6],[5,4,6,7],[5,10,6,10],[5,11,6,11],[8,0,11,0],[8,1,11,1],[8,3,9,5],[8,7,9,7],[9,10,11,10],[9,8,11,8],[9,9,11,9],[3,4,4,10],[14,3,15,3],[14,5,15,5],[14,7,15,7],[16,0,19,0],[16,1,19,1],[16,3,17,5],[16,7,17,7],[9,11,11,11],[10,3,11,3],[10,5,11,5],[10,7,11,7],[12,0,15,0],[12,1,15,1],[12,3,13,5],[12,7,13,7],[12,10,15,10],[12,11,15,11],[12,8,15,8],[12,9,15,9],[16,8,19,8],[16,9,19,9],[22,3,23,3],[22,5,23,5],[22,7,23,7],[24,0,27,0],[24,1,27,1],[24,3,25,5],[24,7,25,7],[16,10,19,10],[16,11,19,11],[18,7,19,7],[20,0,23,0],[20,1,23,1],[20,3,21,5],[20,7,21,7],[20,10,23,10],[20,11,23,11],[24,10,27,10],[24,11,27,11],[26,3,27,3],[26,5,27,5],[26,7,27,7],[18,3,19,3],[18,5,19,5],[20,8,23,8],[28,11,31,11],[30,3,31,3],[30,5,31,5],[30,7,31,7],[32,0,35,0],[32,1,35,1],[32,3,33,5],[32,7,33,7],[32,10,35,10],[32,11,35,11],[28,0,31,0],[28,1,31,1],[28,3,29,5],[28,7,29,7],[28,10,31,10],[34,3,35,3],[34,5,35,5],[34,7,35,7],[47,0,47,11],[50,3,51,6],[52,4,53,10],[54,4,55,7],[54,10,55,10],[54,11,55,11],[36,10,39,10],[36,11,39,11],[38,3,39,3],[38,5,39,5],[38,7,39,7],[40,0,43,3],[40,10,43,10],[40,11,43,11],[36,0,39,0],[36,1,39,1],[36,3,37,5],[36,7,37,7],[57,0,60,0],[57,1,60,1],[57,3,58,5],[57,7,58,7],[58,10,60,10],[58,11,60,11],[59,3,60,3],[59,5,60,5],[59,7,60,7],[58,8,60,8],[58,9,60,9],[61,0,64,0],[61,1,64,1],[61,3,62,5],[61,7,62,7],[61,10,64,10],[61,11,64,11],[63,3,64,3],[63,5,64,5],[63,7,64,7],[61,8,64,8],[61,9,64,9],[65,0,68,0],[65,1,68,1],[65,3,66,5],[65,7,66,7],[65,10,68,10],[65,11,68,11],[67,3,68,3],[67,5,68,5],[67,7,68,7],[65,8,68,8],[65,9,68,9],[69,0,72,0],[69,1,72,1],[69,3,70,5],[69,7,70,7],[69,10,72,10],[69,11,72,11],[71,3,72,3],[71,5,72,5],[71,7,72,7],[69,8,72,8],[69,9,72,9],[73,0,76,0],[73,1,76,1],[73,3,74,5],[73,7,74,7],[73,10,76,10],[73,11,76,11],[75,3,76,3],[75,5,76,5],[75,7,76,7],[73,8,76,8],[73,9,76,9],[77,0,80,0],[77,1,80,1],[77,3,78,5],[77,7,78,7],[77,10,80,10],[77,11,80,11],[79,3,80,3],[79,5,80,5],[79,7,80,7],[77,8,80,8],[77,9,80,9],[81,0,84,0],[81,1,84,1],[81,3,82,5],[81,7,82,7],[81,10,84,10],[81,11,84,11],[83,3,84,3],[83,5,84,5],[83,7,84,7],[81,8,84,8],[81,9,84,9],[89,0,92,3],[89,10,92,10],[89,11,92,11],[85,0,88,0],[85,1,88,1],[85,3,86,5],[85,7,86,7],[85,10,88,10],[85,11,88,11],[87,3,88,3],[87,5,88,5],[87,7,88,7],[85,8,88,8],[85,9,88,9]]}
[null,{"$f":"Eingabe!C2","v":"          2024 Schweizer MM Gewehr 50m Elite / Championnat Suisse d‘équipes carabine 50m élite"}]
[null,"Verein:",null,{"$f":"Eingabe!R9 & \" \" & Eingabe!S9","v":" "},null,null,null,"Mannschaft / Equipe","Liga / ligue","Gruppe / groupe","Runde / Tour","Datum / date"]
[null,"Société:",null,null,null,null,null,{"$f":"Eingabe!T9","v":0},{"$f":"Eingabe!U9","v":0},{"$f":"Eingabe!V9","v":0},{"$f":"Eingabe!J30","v":0},{"$f":"Eingabe!K30","v":"00:00:00"}]
[null,"Verantwortlicher Funktionär:",null,null,{"$f":"Eingabe!R13","v":0}]
[null,"Fonctionnaire responsable:"]
[null,"Strasse, PLZ, Ortschaft:",null,null,{"$f":"Eingabe!R16","v":0},null,null,null,null,null,"Tel.",{"$f":"Eingabe!R22","v":0}]
[null,"rue NP, localité:"]
[]
[null,null,"Name:",null,null,null,"Aufegelegt:",null,"Passe 1","Passe 2","Resultat / Résultat","Kontrolle / contrôle"]
[null,null,"Nom:",null,null,null,"appuis:"]
[null,null,"Jahrgang:",null,"Lizenz-Nr",null,"Karton-Nr",""]
[null,null,"Année:",null,"No Licence",null,"No Cartons"]
[null,null,"Name:",null,null,null,"Aufegelegt:"]
[null,null,"Nom:",null,null,null,"appuis:"]
[null,null,"Jahrgang:",null,"Lizenz-Nr",null,"Karton-Nr",""]
[null,null,"Année:",null,"No Licence",null,"No Cartons"]
[null,null,"Name:",null,null,null,"Aufegelegt:"]
[null,null,"Nom:",null,null,null,"appuis:"]
[null,null,"Jahrgang:",null,"Lizenz-Nr",null,"Karton-Nr",""]
[null,null,"Année:",null,"No Licence",null,"No Cartons"]
[null,null,"Name:",null,null,null,"Aufegelegt:"]
[null,null,"Nom:",null,null,null,"appuis:"]
[null,null,"Jahrgang:",null,"Lizenz-Nr",null,"Karton-Nr",""]
[null,null,"Année:",null,"No Licence",null,"No Cartons"]
[null,null,"Name:",null,null,null,"Aufegelegt:"]
[null,null,"Nom:",null,null,null,"appuis:"]
[null,null,"Jahrgang:",null,"Lizenz-Nr",null,"Karton-Nr",""]
[null,null,"Année:",null,"No Licence",null,"No Cartons"]
[null,null,"Name:",null,null,null,"Aufegelegt:"]
[null,null,"Nom:",null,null,null,"appuis:"]
[null,null,"Jahrgang:",null,"Lizenz-Nr",null,"Karton-Nr",""]
[null,null,"Année:",null,"No Licence",null,"No Cartons"]
[null,null,"Name:",null,null,null,"Aufegelegt:"]
[null,null,"Nom:",null,null,null,"appuis:"]
[null,null,"Jahrgang:",null,"Lizenz-Nr",null,"Karton-Nr",""]
[null,null,"Année:",null,"No Licence",null,"No Cartons"]
[null,null,"Name:",null,null,null,"Aufegelegt:"]
[null,null,"Nom:",null,null,null,"appuis:"]
[null,null,"Jahrgang:",null,"Lizenz-Nr",null,"Karton-Nr",""]
[null,null,"Année:",null,"No Licence",null,"No Cartons"]
["Datum Unterschrift / Date Signature",null,null,null,"Verteiler: Original und Doppel an SSV",null,null,null,null,null,{"$f":"SUM(K10:K40)","v":0}]
[null,null,null,null,"(Kopie wird nach Kontrolle dem Verein zurückgesandt)."]
[null,null,null,null,"Distribution: Original et copie pour la FST"]
[null,null,null,null,"(la copie sera retournée à la société après contrôle)."]
[]
["X",null,"X in Spalte A = Auswechselschütze! / Tireurs remplaçant! / Tiratori diricambio!"]
[]
["Das Mannschaftsstandblatt nicht schneiden"]
[]
[null,{"$f":"B1","v":"          2024 Schweizer MM Gewehr 50m Elite / Championnat Suisse d‘équipes carabine 50m élite"}]
[null,"Verein:",null,{"$f":"D2","v":" "},null,null,null,"Mannschaft / Equipe","Liga / ligue","Gruppe / groupe","Runde / Tour","Datum / date"]
[null,"Société:",null,null,null,null,null,{"$f":"H3","v":0},{"$f":"I3","v":0},{"$f":"J3","v":0},{"$f":"K3","v":0},{"$f":"L3","v":"00:00:00"}]
[null,"Verantwortlicher Funktionär:",null,null,{"$f":"E4","v":0}]
[null,"Fonctionnaire responsable:"]
[null,{"$f":"B6","v":"Strasse, PLZ, Ortschaft:"},null,null,{"$f":"E6","v":0},null,null,null,null,null,{"$f":"K6","v":"Tel."},{"$f":"L6","v":0}]
[null,{"$f":"B7","v":"rue NP, localité:"}]
[]
[{"$f":"A9","v":0},{"$f":"B9","v":0},"Name:",{"$f":"D9","v":0},"Arnold Beat","Arnold Beat","Aufegelegt:",{"$f":"H9","v":0},"Passe 1","Passe 2","Resultat / Résultat","Kontrolle / contrôle"]
[null,null,"Nom:","Arnold Beat","Arnold Beat","Arnold Beat","appuis:",null,{"$f":"I10","v":0},{"$f":"J10","v":0},{"$f":"K10","v":0}]
[null,null,"Jahrgang:",{"$f":"D11","v":0},"Lizenz-Nr.",{"$f":"F11","v":0},"Kartons-Nr.",{"$f":"H11","v":""}]
[null,null,"Année:",null,"No Licence",null,"No Cartons"]
[{"$f":"A13","v":0},{"$f":"B13","v":0},"Name:",{"$f":"D13","v":0},null,null,"Aufegelegt:",{"$f":"H13","v":0},{"$f":"I13","v":0},{"$f":"J13","v":0},{"$f":"K13","v":0}]
[null,null,"Nom:",null,null,null,"appuis:"]
[null,null,"Jahrgang:",{"$f":"D15","v":0},"Lizenz-Nr.",{"$f":"F15","v":0},"Kartons-Nr.",{"$f":"H15","v":""}]
[null,null,"Année:",null,"No Licence",null,"No Cartons"]
[{"$f":"A17","v":0},{"$f":"B17","v":0},"Name:",{"$f":"D17","v":0},null,null,"Aufegelegt:",{"$f":"H17","v":0},{"$f":"I17","v":0},{"$f":"J17","v":0},{"$f":"K17","v":0}]
[null,null,"Nom:",null,null,null,"appuis:"]
[null,null,"Jahrgang:",{"$f":"D19","v":0},"Lizenz-Nr.",{"$f":"F19","v":0},"Kartons-Nr.",{"$f":"H19","v":""}]
[null,null,"Année:",null,"No Licence",null,"No Cartons"]
[{"$f":"A21","v":0},{"$f":"B21","v":0},"Name:",{"$f":"D21","v":0},null,null,"Aufegelegt:",{"$f":"H21","v":0},{"$f":"I21","v":0},{"$f":"J21","v":0},{"$f":"K21","v":0}]
[null,null,"Nom:",null,null,null,"appuis:"]
[null,null,"Jahrgang:",{"$f":"D23","v":0},"Lizenz-Nr.",{"$f":"F23","v":0},"Kartons-Nr.",{"$f":"H23","v":""}]
[null,null,"Année:",null,"No Licence",null,"No Cartons"]
[{"$f":"A25","v":0},{"$f":"B25","v":0},"Name:",{"$f":"D25","v":0},null,null,"Aufegelegt:",{"$f":"H25","v":0},{"$f":"I25","v":0},{"$f":"J25","v":0},{"$f":"K25","v":0}]
[null,null,"Nom:",null,null,null,"appuis:"]
[null,null,"Jahrgang:",{"$f":"D27","v":0},"Lizenz-Nr.",{"$f":"F27","v":0},"Kartons-Nr.",{"$f":"H27","v":""}]
[null,null,"Année:",null,"No Licence",null,"No Cartons"]
[{"$f":"A29","v":0},{"$f":"B29","v":0},"Name:",{"$f":"D29","v":0},null,null,"Aufegelegt:",{"$f":"H29","v":0},{"$f":"I29","v":0},{"$f":"J29","v":0},{"$f":"K29","v":0}]
[null,null,"Nom:",null,null,null,"appuis:"]
[null,null,"Jahrgang:",{"$f":"D31","v":0},"Lizenz-Nr.",{"$f":"F31","v":0},"Kartons-Nr.",{"$f":"H31","v":""}]
[null,null,"Année:",null,"No Licence",null,"No Cartons"]
[{"$f":"A33","v":0},{"$f":"B33","v":0},"Name:",{"$f":"D33","v":0},null,null,"Aufegelegt:",{"$f":"H33","v":0},{"$f":"I33","v":0},{"$f":"J33","v":0},{"$f":"K33","v":0}]
[null,null,"Nom:",null,null,null,"appuis:"]
[null,null,"Jahrgang:",{"$f":"D35","v":0},"Lizenz-Nr.",{"$f":"F35","v":0},"Kartons-Nr.",{"$f":"H35","v":""}]
[null,null,"Année:",null,"No Licence",null,"No Cartons"]
[{"$f":"A37","v":0},{"$f":"B37","v":0},"Name:",{"$f":"D37","v":0},null,null,"Aufegelegt:",{"$f":"H37","v":0},{"$f":"I37","v":0},{"$f":"J37","v":0},{"$f":"K37","v":0}]
[null,null,"Nom:",null,null,null,"appuis:"]
[null,null,"Jahrgang:",{"$f":"D39","v":0},"Lizenz-Nr.",{"$f":"F39","v":0},"Kartons-Nr.",{"$f":"H39","v":""}]
[null,null,"Année:",null,"No Licence",null,"No Cartons"]
["Datum Unterschrift / Date Signature",null,null,null,"Verteiler: Original und Doppel an SSV",null,null,null,null,null,{"$f":"SUM(K59:K89)","v":0}]
[null,null,null,null,"(Kopie wird nach Kontrolle dem Verein zurückgesandt)."]
[null,null,null,null,"Distribution: Original et copie pour la FST"]
[null,null,null,null,"(la copie sera retournée à la société après contrôle)."]

{"sheet":"Standblatt 5. M.","index":6,"n_rows":93,"n_cols":12,"rows_kept":93,"cut":false,"hidden":false,"merged":[[20,9,23,9],[24,8,27,8],[24,9,27,9],[28,8,31,8],[28,9,31,9],[32,8,35,8],[32,9,35,9],[36,8,39,8],[36,9,39,9],[1,3,2,6],[5,4,6,7],[5,10,6,10],[5,11,6,11],[8,0,11,0],[8,1,11,1],[8,3,9,5],[8,7,9,7],[9,10,11,10],[9,8,11,8],[9,9,11,9],[3,4,4,10],[14,3,15,3],[14,5,15,5],[14,7,15,7],[16,0,19,0],[16,1,19,1],[16,3,17,5],[16,7,17,7],[9,11,11,11],[10,3,11,3],[10,5,11,5],[10,7,11,7],[12,0,15,0],[12,1,15,1],[12,3,13,5],[12,7,13,7],[12,10,15,10],[12,11,15,11],[12,8,15,8],[12,9,15,9],[16,8,19,8],[16,9,19,9],[22,3,23,3],[22,5,23,5],[22,7,23,7],[24,0,27,0],[24,1,27,1],[24,3,25,5],[24,7,25,7],[16,10,19,10],[16,11,19,11],[18,7,19,7],[20,0,23,0],[20,1,23,1],[20,3,21,5],[20,7,21,7],[20,10,23,10],[20,11,23,11],[24,10,27,10],[24,11,27,11],[26,3,27,3],[26,5,27,5],[26,7,27,7],[18,3,19,3],[18,5,19,5],[20,8,23,8],[28,11,31,11],[30,3,31,3],[30,5,31,5],[30,7,31,7],[32,0,35,0],[32,1,35,1],[32,3,33,5],[32,7,33,7],[32,10,35,10],[32,11,35,11],[28,0,31,0],[28,1,31,1],[28,3,29,5],[28,7,29,7],[28,10,31,10],[34,3,35,3],[34,5,35,5],[34,7,35,7],[47,0,47,11],[50,3,51,6],[52,4,53,10],[54,4,55,7],[54,10,55,10],[54,11,55,11],[36,10,39,10],[36,11,39,11],[38,3,39,3],[38,5,39,5],[38,7,39,7],[40,0,43,3],[40,10,43,10],[40,11,43,11],[36,0,39,0],[36,1,39,1],[36,3,37,5],[36,7,37,7],[57,0,60,0],[57,1,60,1],[57,3,58,5],[57,7,58,7],[58,10,60,10],[58,11,60,11],[59,3,60,3],[59,5,60,5],[59,7,60,7],[58,8,60,8],[58,9,60,9],[61,0,64,0],[61,1,64,1],[61,3,62,5],[61,7,62,7],[61,10,64,10],[61,11,64,11],[63,3,64,3],[63,5,64,5],[63,7,64,7],[61,8,64,8],[61,9,64,9],[65,0,68,0],[65,1,68,1],[65,3,66,5],[65,7,66,7],[65,10,68,10],[65,11,68,11],[67,3,68,3],[67,5,68,5],[67,7,68,7],[65,8,68,8],[65,9,68,9],[69,0,72,0],[69,1,72,1],[69,3,70,5],[69,7,70,7],[69,10,72,10],[69,11,72,11],[71,3,72,3],[71,5,72,5],[71,7,72,7],[69,8,72,8],[69,9,72,9],[73,0,76,0],[73,1,76,1],[73,3,74,5],[73,7,74,7],[73,10,76,10],[73,11,76,11],[75,3,76,3],[75,5,76,5],[75,7,76,7],[73,8,76,8],[73,9,76,9],[77,0,80,0],[77,1,80,1],[77,3,78,5],[77,7,78,7],[77,10,80,10],[77,11,80,11],[79,3,80,3],[79,5,80,5],[79,7,80,7],[77,8,80,8],[77,9,80,9],[81,0,84,0],[81,1,84,1],[81,3,82,5],[81,7,82,7],[81,10,84,10],[81,11,84,11],[83,3,84,3],[83,5,84,5],[83,7,84,7],[81,8,84,8],[81,9,84,9],[89,0,92,3],[89,10,92,10],[89,11,92,11],[85,0,88,0],[85,1,88,1],[85,3,86,5],[85,7,86,7],[85,10,88,10],[85,11,88,11],[87,3,88,3],[87,5,88,5],[87,7,88,7],[85,8,88,8],[85,9,88,9]]}
[null,{"$f":"Eingabe!C2","v":"          2024 Schweizer MM Gewehr 50m Elite / Championnat Suisse d‘équipes carabine 50m élite"}]
[null,"Verein:",null,{"$f":"Eingabe!R10 & \" \" & Eingabe!S10","v":" "},null,null,null,"Mannschaft / Equipe","Liga / ligue","Gruppe / groupe","Runde / Tour","Datum / date"]
[null,"Société:",null,null,null,null,null,{"$f":"Eingabe!T10","v":0},{"$f":"Eingabe!U10","v":0},{"$f":"Eingabe!V10","v":0},{"$f":"Eingabe!J38","v":0},{"$f":"Eingabe!K38","v":"00:00:00"}]
[null,"Verantwortlicher Funktionär:",null,null,{"$f":"Eingabe!R13","v":0}]
[null,"Fonctionnaire responsable:"]
[null,"Strasse, PLZ, Ortschaft:",null,null,{"$f":"Eingabe!R16","v":0},null,null,null,null,null,"Tel.",{"$f":"Eingabe!R22","v":0}]
[null,"rue NP, localité:"]
[]
[null,null,"Name:",null,null,null,"Aufegelegt:",null,"Passe 1","Passe 2","Resultat / Résultat","Kontrolle / contrôle"]
[null,null,"Nom:",null,null,null,"appuis:"]
[null,null,"Jahrgang:",null,"Lizenz-Nr",null,"Karton-Nr",""]
[null,null,"Année:",null,"No Licence",null,"No Cartons"]
[null,null,"Name:",null,null,null,"Aufegelegt:"]
[null,null,"Nom:",null,null,null,"appuis:"]
[null,null,"Jahrgang:",null,"Lizenz-Nr",null,"Karton-Nr",""]
[null,null,"Année:",null,"No Licence",null,"No Cartons"]
[null,null,"Name:",null,null,null,"Aufegelegt:"]
[null,null,"Nom:",null,null,null,"appuis:"]
[null,null,"Jahrgang:",null,"Lizenz-Nr",null,"Karton-Nr",""]
[null,null,"Année:",null,"No Licence",null,"No Cartons"]
[null,null,"Name:",null,null,null,"Aufegelegt:"]
[null,null,"Nom:",null,null,null,"appuis:"]
[null,null,"Jahrgang:",null,"Lizenz-Nr",null,"Karton-Nr",""]
[null,null,"Année:",null,"No Licence",null,"No Cartons"]
[null,null,"Name:",null,null,null,"Aufegelegt:"]
[null,null,"Nom:",null,null,null,"appuis:"]
[null,null,"Jahrgang:",null,"Lizenz-Nr",null,"Karton-Nr",""]
[null,null,"Année:",null,"No Licence",null,"No Cartons"]
[null,null,"Name:",null,null,null,"Aufegelegt:"]
[null,null,"Nom:",null,null,null,"appuis:"]
[null,null,"Jahrgang:",null,"Lizenz-Nr",null,"Karton-Nr",""]
[null,null,"Année:",null,"No Licence",null,"No Cartons"]
[null,null,"Name:",null,null,null,"Aufegelegt:"]
[null,null,"Nom:",null,null,null,"appuis:"]
[null,null,"Jahrgang:",null,"Lizenz-Nr",null,"Karton-Nr",""]
[null,null,"Année:",null,"No Licence",null,"No Cartons"]
[null,null,"Name:",null,null,null,"Aufegelegt:"]
[null,null,"Nom:",null,null,null,"appuis:"]
[null,null,"Jahrgang:",null,"Lizenz-Nr",null,"Karton-Nr",""]
[null,null,"Année:",null,"No Licence",null,"No Cartons"]
["Datum Unterschrift / Date Signature",null,null,null,"Verteiler: Original und Doppel an SSV",null,null,null,null,null,{"$f":"SUM(K10:K40)","v":0}]
[null,null,null,null,"(Kopie wird nach Kontrolle dem Verein zurückgesandt)."]
[null,null,null,null,"Distribution: Original et copie pour la FST"]
[null,null,null,null,"(la copie sera retournée à la société après contrôle)."]
[]
["X",null,"X in Spalte A = Auswechselschütze! / Tireurs remplaçant! / Tiratori diricambio!"]
[]
["Das Mannschaftsstandblatt nicht schneiden"]
[]
[null,{"$f":"B1","v":"          2024 Schweizer MM Gewehr 50m Elite / Championnat Suisse d‘équipes carabine 50m élite"}]
[null,"Verein:",null,{"$f":"D2","v":" "},null,null,null,"Mannschaft / Equipe","Liga / ligue","Gruppe / groupe","Runde / Tour","Datum / date"]
[null,"Société:",null,null,null,null,null,{"$f":"H3","v":0},{"$f":"I3","v":0},{"$f":"J3","v":0},{"$f":"K3","v":0},{"$f":"L3","v":"00:00:00"}]
[null,"Verantwortlicher Funktionär:",null,null,{"$f":"E4","v":0}]
[null,"Fonctionnaire responsable:"]
[null,{"$f":"B6","v":"Strasse, PLZ, Ortschaft:"},null,null,{"$f":"E6","v":0},null,null,null,null,null,{"$f":"K6","v":"Tel."},{"$f":"L6","v":0}]
[null,{"$f":"B7","v":"rue NP, localité:"}]
[]
[{"$f":"A9","v":0},{"$f":"B9","v":0},"Name:",{"$f":"D9","v":0},"Arnold Beat","Arnold Beat","Aufegelegt:",{"$f":"H9","v":0},"Passe 1","Passe 2","Resultat / Résultat","Kontrolle / contrôle"]
[null,null,"Nom:","Arnold Beat","Arnold Beat","Arnold Beat","appuis:",null,{"$f":"I10","v":0},{"$f":"J10","v":0},{"$f":"K10","v":0}]
[null,null,"Jahrgang:",{"$f":"D11","v":0},"Lizenz-Nr.",{"$f":"F11","v":0},"Kartons-Nr.",{"$f":"H11","v":""}]
[null,null,"Année:",null,"No Licence",null,"No Cartons"]
[{"$f":"A13","v":0},{"$f":"B13","v":0},"Name:",{"$f":"D13","v":0},null,null,"Aufegelegt:",{"$f":"H13","v":0},{"$f":"I13","v":0},{"$f":"J13","v":0},{"$f":"K13","v":0}]
[null,null,"Nom:",null,null,null,"appuis:"]
[null,null,"Jahrgang:",{"$f":"D15","v":0},"Lizenz-Nr.",{"$f":"F15","v":0},"Kartons-Nr.",{"$f":"H15","v":""}]
[null,null,"Année:",null,"No Licence",null,"No Cartons"]
[{"$f":"A17","v":0},{"$f":"B17","v":0},"Name:",{"$f":"D17","v":0},null,null,"Aufegelegt:",{"$f":"H17","v":0},{"$f":"I17","v":0},{"$f":"J17","v":0},{"$f":"K17","v":0}]
[null,null,"Nom:",null,null,null,"appuis:"]
[null,null,"Jahrgang:",{"$f":"D19","v":0},"Lizenz-Nr.",{"$f":"F19","v":0},"Kartons-Nr.",{"$f":"H19","v":""}]
[null,null,"Année:",null,"No Licence",null,"No Cartons"]
[{"$f":"A21","v":0},{"$f":"B21","v":0},"Name:",{"$f":"D21","v":0},null,null,"Aufegelegt:",{"$f":"H21","v":0},{"$f":"I21","v":0},{"$f":"J21","v":0},{"$f":"K21","v":0}]
[null,null,"Nom:",null,null,null,"appuis:"]
[null,null,"Jahrgang:",{"$f":"D23","v":0},"Lizenz-Nr.",{"$f":"F23","v":0},"Kartons-Nr.",{"$f":"H23","v":""}]
[null,null,"Année:",null,"No Licence",null,"No Cartons"]
[{"$f":"A25","v":0},{"$f":"B25","v":0},"Name:",{"$f":"D25","v":0},null,null,"Aufegelegt:",{"$f":"H25","v":0},{"$f":"I25","v":0},{"$f":"J25","v":0},{"$f":"K25","v":0}]
[null,null,"Nom:",null,null,null,"appuis:"]
[null,null,"Jahrgang:",{"$f":"D27","v":0},"Lizenz-Nr.",{"$f":"F27","v":0},"Kartons-Nr.",{"$f":"H27","v":""}]
[null,null,"Année:",null,"No Licence",null,"No Cartons"]
[{"$f":"A29","v":0},{"$f":"B29","v":0},"Name:",{"$f":"D29","v":0},null,null,"Aufegelegt:",{"$f":"H29","v":0},{"$f":"I29","v":0},{"$f":"J29","v":0},{"$f":"K29","v":0}]
[null,null,"Nom:",null,null,null,"appuis:"]
[null,null,"Jahrgang:",{"$f":"D31","v":0},"Lizenz-Nr.",{"$f":"F31","v":0},"Kartons-Nr.",{"$f":"H31","v":""}]
[null,null,"Année:",null,"No Licence",null,"No Cartons"]
[{"$f":"A33","v":0},{"$f":"B33","v":0},"Name:",{"$f":"D33","v":0},null,null,"Aufegelegt:",{"$f":"H33","v":0},{"$f":"I33","v":0},{"$f":"J33","v":0},{"$f":"K33","v":0}]
[null,null,"Nom:",null,null,null,"appuis:"]
[null,null,"Jahrgang:",{"$f":"D35","v":0},"Lizenz-Nr.",{"$f":"F35","v":0},"Kartons-Nr.",{"$f":"H35","v":""}]
[null,null,"Année:",null,"No Licence",null,"No Cartons"]
[{"$f":"A37","v":0},{"$f":"B37","v":0},"Name:",{"$f":"D37","v":0},null,null,"Aufegelegt:",{"$f":"H37","v":0},{"$f":"I37","v":0},{"$f":"J37","v":0},{"$f":"K37","v":0}]
[null,null,"Nom:",null,null,null,"appuis:"]
[null,null,"Jahrgang:",{"$f":"D39","v":0},"Lizenz-Nr.",{"$f":"F39","v":0},"Kartons-Nr.",{"$f":"H39","v":""}]
[null,null,"Année:",null,"No Licence",null,"No Cartons"]
["Datum Unterschrift / Date Signature",null,null,null,"Verteiler: Original und Doppel an SSV",null,null,null,null,null,{"$f":"SUM(K59:K89)","v":0}]
[null,null,null,null,"(Kopie wird nach Kontrolle dem Verein zurückgesandt)."]
[null,null,null,null,"Distribution: Original et copie pour la FST"]
[null,null,null,null,"(la copie sera retournée à la société après contrôle)."]